Workbook

Sheet Premissas
A1: Comprar casa ou arrendar: qual é financeiramente mais vantajoso?
A3: Estudo de um caso, em Janeiro de 2026, para entender qual o melhor método compra de casa para habitação ou arrendar.
A5: Dados do imóvel
A6: Localização | D6: Porto | J6: Custo anuais da casa | S6: Este modelo ajuda a decidir entre comprar ou arrendar, analisando não apenas o fluxo de caixa mensal, mas o património líquido acumulado após 30 anos, stressamos as variáveis de taxa de juro e valor do imóvel, através da análise de sensibilidade.
A7: Tipologia | D7: T2 | J7: IMI | M7: =$O$7*$D$9 -> 1560 | O7: 0.004 | P7: do valor do imóvel
A8: Tipo de imóvel | D8: Apartamento | J8: Condomínio (mensal) | M8: 100
A9: Preço do imóvel | D9: 390000 | J9: Manutenção (anual/%) | M9: =$O$9*$D$9 -> 3900 | O9: 0.01 | P9: do valor do imovel
A10: Entrada (%) | D10: =$F$10*D9 -> 39000 | F10: 0.1 | J10: Seguro | M10: 150
A11: Valor financiado | D11: =$F$11*$D$9 -> 351000 | F11: 0.9
A12: Prazo do crédito (anos) | D12: 30 | J12: Arrendamento
A13: Taxa de juro anual (%) | D13: 0.03867 | J13: Renda mensal inicial | M13: 1600
A14: Valor da prestação | D14: 1651.96 | J14: Crescimento anual da renda | M14: 0.02 | N14: 0.025 | O14: 0.03
A15: Seguros extra (mês) | D15: 30
A16: Tipo de taxa | D16: Fixa
A17: Valorização anual do imóvel | D17: 0.03
J18: Financiamento
A19: Custo de compra | J19: Taxa de retorno alternativa | M19: 0.03 | N19: 0.07 | O19: 0.1
A20: IMT | D20: =($D$9-Anexo!E10)*$F$20 -> 30098.932 | F20: 0.08 | G20: tabela anexo | J20: Horizonte temporal da análise | M20: 30 anos
A21: Imposto de selo | D21: =$D$9*$F$21 -> 3120 | F21: 0.008 | G21: sobre o preço de compra
A22: Escritura/registos | D22: =$D$9*$F$22 -> 4680 | F22: 0.012 | G22: do preço do imóvel
A23: Obras inicias | D23: Sem necessidade

Sheet Comprar
A1: Comprar (Fluxo de caixa)
A4: Resultados | L4: Dados
A5: Valor da casa + empréstimos | D5: =O5+SUM(F15:G373)+O6 -> 631650.64 | L5: Valor de entrada | O5: =Premissas!D10 -> 39000 | Q5: IMT | T5: =Premissas!D20 -> 30098.932
A6: Gastos totais | D6: =SUM(P14:W43)+O10*359 -> 325298.68 | L6: Valor do empéstimo | O6: =Premissas!D11 -> 351000 | Q6: Imposto de selo | T6: =Premissas!D21 -> 3120
A7: Gastos inciais na compra | D7: =SUM(T5:U7) -> 37898.932 | L7: Prestação | O7: =Premissas!D14 -> 1651.96 | Q7: Escritura/registos | T7: =Premissas!D22 -> 4680
A8: Valor terminal | D8: =X43 -> 919060.55 | L8: Juro mensal | O8: =(Premissas!D13)/12 -> 0.0032225 | Q8: Obras inicias | T8: Sem necessidade
A9: Valor final (sem venda): | D9: =-D7-D6-D5 -> -994848.25 | L9: Condomínio (mensal) | O9: =Premissas!M8 -> 100
A10: Valor final (com venda): | D10: =D8-D7-D6-D5 -> -75787.702 | L10: Seguros extras (mensal) | O10: 30
A12: Quadro da dívida | M12: Mudanças mo tempo
A13: Ano | D13: Prestação | F13: Juros | H13: Amortização | J13: Saldo devedor | P13: Condomínio | R13: IMI | T13: Seguro | V13: Manutenção | X13: Valor do imóvel | Z13: Custos total anual
A14: 0 | J14: =O6 -> 351000 | M14: 1 | P14: =O9*12 -> 1200 | R14: =Premissas!M7 -> 1560 | T14: =Premissas!M10 -> 150 | V14: =Premissas!$O$9*Comprar!X14 -> 3900 | X14: =Premissas!D9 -> 390000 | Z14: =SUM(P14:W14) -> 6810
A15: 1 | B15: 1 | D15: =$O$7 -> 1651.96 | F15: =J14*$O$8 -> 1131.0975 | H15: =D15-F15 -> 520.8625 | J15: =J14-H15 -> 350479.14 | M15: 2 | P15: =P14*(1+2%) -> 1224 | R15: =R14*(1+Premissas!$D$17) -> 1606.8 | T15: =T14*(1+2%) -> 153 | V15: =Premissas!$O$9*Comprar!X15 -> 4017 | X15: =X14*(1+Premissas!$D$17) -> 401700 | Z15: =SUM(P15:W15) -> 7000.8
A16: 1 | B16: 2 | D16: =$O$7 -> 1651.96 | F16: =J15*$O$8 -> 1129.419 | H16: =D16-F16 -> 522.54098 | J16: =J15-H16 -> 349956.6 | M16: 3 | P16: =P15*(1+2%) -> 1248.48 | R16: =R15*(1+Premissas!$D$17) -> 1655.004 | T16: =T15*(1+2%) -> 156.06 | V16: =Premissas!$O$9*Comprar!X16 -> 4137.51 | X16: =X15*(1+Premissas!$D$17) -> 413751 | Z16: =SUM(P16:W16) -> 7197.054
A17: 1 | B17: 3 | D17: =$O$7 -> 1651.96 | F17: =J16*$O$8 -> 1127.7351 | H17: =D17-F17 -> 524.22487 | J17: =J16-H17 -> 349432.37 | M17: 4 | P17: =P16*(1+2%) -> 1273.4496 | R17: =R16*(1+Premissas!$D$17) -> 1704.6541 | T17: =T16*(1+2%) -> 159.1812 | V17: =Premissas!$O$9*Comprar!X17 -> 4261.6353 | X17: =X16*(1+Premissas!$D$17) -> 426163.53 | Z17: =SUM(P17:W17) -> 7398.9202
A18: 1 | B18: 4 | D18: =$O$7 -> 1651.96 | F18: =J17*$O$8 -> 1126.0458 | H18: =D18-F18 -> 525.91418 | J18: =J17-H18 -> 348906.46 | M18: 5 | P18: =P17*(1+2%) -> 1298.9186 | R18: =R17*(1+Premissas!$D$17) -> 1755.7937 | T18: =T17*(1+2%) -> 162.36482 | V18: =Premissas!$O$9*Comprar!X18 -> 4389.4844 | X18: =X17*(1+Premissas!$D$17) -> 438948.44 | Z18: =SUM(P18:W18) -> 7606.5615
A19: 1 | B19: 5 | D19: =$O$7 -> 1651.96 | F19: =J18*$O$8 -> 1124.3511 | H19: =D19-F19 -> 527.60894 | J19: =J18-H19 -> 348378.85 | M19: 6 | P19: =P18*(1+2%) -> 1324.897 | R19: =R18*(1+Premissas!$D$17) -> 1808.4676 | T19: =T18*(1+2%) -> 165.61212 | V19: =Premissas!$O$9*Comprar!X19 -> 4521.1689 | X19: =X18*(1+Premissas!$D$17) -> 452116.89 | Z19: =SUM(P19:W19) -> 7820.1455
A20: 1 | B20: 6 | D20: =$O$7 -> 1651.96 | F20: =J19*$O$8 -> 1122.6508 | H20: =D20-F20 -> 529.30916 | J20: =J19-H20 -> 347849.54 | M20: 7 | P20: =P19*(1+2%) -> 1351.3949 | R20: =R19*(1+Premissas!$D$17) -> 1862.7216 | T20: =T19*(1+2%) -> 168.92436 | V20: =Premissas!$O$9*Comprar!X20 -> 4656.804 | X20: =X19*(1+Premissas!$D$17) -> 465680.4 | Z20: =SUM(P20:W20) -> 8039.8448
A21: 1 | B21: 7 | D21: =$O$7 -> 1651.96 | F21: =J20*$O$8 -> 1120.9451 | H21: =D21-F21 -> 531.01486 | J21: =J20-H21 -> 347318.52 | M21: 8 | P21: =P20*(1+2%) -> 1378.4228 | R21: =R20*(1+Premissas!$D$17) -> 1918.6032 | T21: =T20*(1+2%) -> 172.30285 | V21: =Premissas!$O$9*Comprar!X21 -> 4796.5081 | X21: =X20*(1+Premissas!$D$17) -> 479650.81 | Z21: =SUM(P21:W21) -> 8265.837
A22: 1 | B22: 8 | D22: =$O$7 -> 1651.96 | F22: =J21*$O$8 -> 1119.2339 | H22: =D22-F22 -> 532.72605 | J22: =J21-H22 -> 346785.8 | M22: 9 | P22: =P21*(1+2%) -> 1405.9913 | R22: =R21*(1+Premissas!$D$17) -> 1976.1613 | T22: =T21*(1+2%) -> 175.74891 | V22: =Premissas!$O$9*Comprar!X22 -> 4940.4033 | X22: =X21*(1+Premissas!$D$17) -> 494040.33 | Z22: =SUM(P22:W22) -> 8498.3048
A23: 1 | B23: 9 | D23: =$O$7 -> 1651.96 | F23: =J22*$O$8 -> 1117.5172 | H23: =D23-F23 -> 534.44276 | J23: =J22-H23 -> 346251.36 | M23: 10 | P23: =P22*(1+2%) -> 1434.1111 | R23: =R22*(1+Premissas!$D$17) -> 2035.4462 | T23: =T22*(1+2%) -> 179.26389 | V23: =Premissas!$O$9*Comprar!X23 -> 5088.6154 | X23: =X22*(1+Premissas!$D$17) -> 508861.54 | Z23: =SUM(P23:W23) -> 8737.4366
A24: 1 | B24: 10 | D24: =$O$7 -> 1651.96 | F24: =J23*$O$8 -> 1115.795 | H24: =D24-F24 -> 536.16501 | J24: =J23-H24 -> 345715.19 | M24: 11 | P24: =P23*(1+2%) -> 1462.7933 | R24: =R23*(1+Premissas!$D$17) -> 2096.5096 | T24: =T23*(1+2%) -> 182.84916 | V24: =Premissas!$O$9*Comprar!X24 -> 5241.2739 | X24: =X23*(1+Premissas!$D$17) -> 524127.39 | Z24: =SUM(P24:W24) -> 8983.4259
A25: 1 | B25: 11 | D25: =$O$7 -> 1651.96 | F25: =J24*$O$8 -> 1114.0672 | H25: =D25-F25 -> 537.8928 | J25: =J24-H25 -> 345177.3 | M25: 12 | P25: =P24*(1+2%) -> 1492.0492 | R25: =R24*(1+Premissas!$D$17) -> 2159.4048 | T25: =T24*(1+2%) -> 186.50615 | V25: =Premissas!$O$9*Comprar!X25 -> 5398.5121 | X25: =X24*(1+Premissas!$D$17) -> 539851.21 | Z25: =SUM(P25:W25) -> 9236.4723
A26: 1 | B26: 12 | D26: =$O$7 -> 1651.96 | F26: =J25*$O$8 -> 1112.3338 | H26: =D26-F26 -> 539.62616 | J26: =J25-H26 -> 344637.67 | M26: 13 | P26: =P25*(1+2%) -> 1521.8902 | R26: =R25*(1+Premissas!$D$17) -> 2224.187 | T26: =T25*(1+2%) -> 190.23627 | V26: =Premissas!$O$9*Comprar!X26 -> 5560.4675 | X26: =X25*(1+Premissas!$D$17) -> 556046.75 | Z26: =SUM(P26:W26) -> 9496.7809
A27: =INT((ROW()-3)/12) -> 2 | B27: 1 | D27: =$O$7 -> 1651.96 | F27: =J26*$O$8 -> 1110.5949 | H27: =D27-F27 -> 541.3651 | J27: =J26-H27 -> 344096.31 | M27: 14 | P27: =P26*(1+2%) -> 1552.328 | R27: =R26*(1+Premissas!$D$17) -> 2290.9126 | T27: =T26*(1+2%) -> 194.04099 | V27: =Premissas!$O$9*Comprar!X27 -> 5727.2815 | X27: =X26*(1+Premissas!$D$17) -> 572728.15 | Z27: =SUM(P27:W27) -> 9764.563
A28: =INT((ROW()-3)/12) -> 2 | B28: 2 | D28: =$O$7 -> 1651.96 | F28: =J27*$O$8 -> 1108.8503 | H28: =D28-F28 -> 543.10965 | J28: =J27-H28 -> 343553.2 | M28: 15 | P28: =P27*(1+2%) -> 1583.3745 | R28: =R27*(1+Premissas!$D$17) -> 2359.64 | T28: =T27*(1+2%) -> 197.92181 | V28: =Premissas!$O$9*Comprar!X28 -> 5899.0999 | X28: =X27*(1+Premissas!$D$17) -> 589909.99 | Z28: =SUM(P28:W28) -> 10040.036
A29: =INT((ROW()-3)/12) -> 2 | B29: 3 | D29: =$O$7 -> 1651.96 | F29: =J28*$O$8 -> 1107.1002 | H29: =D29-F29 -> 544.85982 | J29: =J28-H29 -> 343008.34 | M29: 16 | P29: =P28*(1+2%) -> 1615.042 | R29: =R28*(1+Premissas!$D$17) -> 2430.4292 | T29: =T28*(1+2%) -> 201.88025 | V29: =Premissas!$O$9*Comprar!X29 -> 6076.0729 | X29: =X28*(1+Premissas!$D$17) -> 607607.29 | Z29: =SUM(P29:W29) -> 10323.424
A30: =INT((ROW()-3)/12) -> 2 | B30: 4 | D30: =$O$7 -> 1651.96 | F30: =J29*$O$8 -> 1105.3444 | H30: =D30-F30 -> 546.61563 | J30: =J29-H30 -> 342461.72 | M30: 17 | P30: =P29*(1+2%) -> 1647.3428 | R30: =R29*(1+Premissas!$D$17) -> 2503.342 | T30: =T29*(1+2%) -> 205.91786 | V30: =Premissas!$O$9*Comprar!X30 -> 6258.3551 | X30: =X29*(1+Premissas!$D$17) -> 625835.51 | Z30: =SUM(P30:W30) -> 10614.958
A31: =INT((ROW()-3)/12) -> 2 | B31: 5 | D31: =$O$7 -> 1651.96 | F31: =J30*$O$8 -> 1103.5829 | H31: =D31-F31 -> 548.3771 | J31: =J30-H31 -> 341913.34 | M31: 18 | P31: =P30*(1+2%) -> 1680.2897 | R31: =R30*(1+Premissas!$D$17) -> 2578.4423 | T31: =T30*(1+2%) -> 210.03621 | V31: =Premissas!$O$9*Comprar!X31 -> 6446.1058 | X31: =X30*(1+Premissas!$D$17) -> 644610.58 | Z31: =SUM(P31:W31) -> 10914.874
A32: =INT((ROW()-3)/12) -> 2 | B32: 6 | D32: =$O$7 -> 1651.96 | F32: =J31*$O$8 -> 1101.8158 | H32: =D32-F32 -> 550.14425 | J32: =J31-H32 -> 341363.2 | M32: 19 | P32: =P31*(1+2%) -> 1713.8955 | R32: =R31*(1+Premissas!$D$17) -> 2655.7956 | T32: =T31*(1+2%) -> 214.23694 | V32: =Premissas!$O$9*Comprar!X32 -> 6639.4889 | X32: =X31*(1+Premissas!$D$17) -> 663948.89 | Z32: =SUM(P32:W32) -> 11223.417
A33: =INT((ROW()-3)/12) -> 2 | B33: 7 | D33: =$O$7 -> 1651.96 | F33: =J32*$O$8 -> 1100.0429 | H33: =D33-F33 -> 551.91709 | J33: =J32-H33 -> 340811.28 | M33: 20 | P33: =P32*(1+2%) -> 1748.1734 | R33: =R32*(1+Premissas!$D$17) -> 2735.4694 | T33: =T32*(1+2%) -> 218.52168 | V33: =Premissas!$O$9*Comprar!X33 -> 6838.6736 | X33: =X32*(1+Premissas!$D$17) -> 683867.36 | Z33: =SUM(P33:W33) -> 11540.838
A34: =INT((ROW()-3)/12) -> 2 | B34: 8 | D34: =$O$7 -> 1651.96 | F34: =J33*$O$8 -> 1098.2644 | H34: =D34-F34 -> 553.69564 | J34: =J33-H34 -> 340257.59 | M34: 21 | P34: =P33*(1+2%) -> 1783.1369 | R34: =R33*(1+Premissas!$D$17) -> 2817.5335 | T34: =T33*(1+2%) -> 222.89211 | V34: =Premissas!$O$9*Comprar!X34 -> 7043.8338 | X34: =X33*(1+Premissas!$D$17) -> 704383.38 | Z34: =SUM(P34:W34) -> 11867.396
A35: =INT((ROW()-3)/12) -> 2 | B35: 9 | D35: =$O$7 -> 1651.96 | F35: =J34*$O$8 -> 1096.4801 | H35: =D35-F35 -> 555.47992 | J35: =J34-H35 -> 339702.11 | M35: 22 | P35: =P34*(1+2%) -> 1818.7996 | R35: =R34*(1+Premissas!$D$17) -> 2902.0595 | T35: =T34*(1+2%) -> 227.34995 | V35: =Premissas!$O$9*Comprar!X35 -> 7255.1488 | X35: =X34*(1+Premissas!$D$17) -> 725514.88 | Z35: =SUM(P35:W35) -> 12203.358
A36: =INT((ROW()-3)/12) -> 2 | B36: 10 | D36: =$O$7 -> 1651.96 | F36: =J35*$O$8 -> 1094.69 | H36: =D36-F36 -> 557.26996 | J36: =J35-H36 -> 339144.84 | M36: 23 | P36: =P35*(1+2%) -> 1855.1756 | R36: =R35*(1+Premissas!$D$17) -> 2989.1213 | T36: =T35*(1+2%) -> 231.89695 | V36: =Premissas!$O$9*Comprar!X36 -> 7472.8033 | X36: =X35*(1+Premissas!$D$17) -> 747280.33 | Z36: =SUM(P36:W36) -> 12548.997
A37: =INT((ROW()-3)/12) -> 2 | B37: 11 | D37: =$O$7 -> 1651.96 | F37: =J36*$O$8 -> 1092.8942 | H37: =D37-F37 -> 559.06576 | J37: =J36-H37 -> 338585.77 | M37: 24 | P37: =P36*(1+2%) -> 1892.2791 | R37: =R36*(1+Premissas!$D$17) -> 3078.795 | T37: =T36*(1+2%) -> 236.53489 | V37: =Premissas!$O$9*Comprar!X37 -> 7696.9874 | X37: =X36*(1+Premissas!$D$17) -> 769698.74 | Z37: =SUM(P37:W37) -> 12904.596
A38: =INT((ROW()-3)/12) -> 2 | B38: 12 | D38: =$O$7 -> 1651.96 | F38: =J37*$O$8 -> 1091.0926 | H38: =D38-F38 -> 560.86735 | J38: =J37-H38 -> 338024.9 | M38: 25 | P38: =P37*(1+2%) -> 1930.1247 | R38: =R37*(1+Premissas!$D$17) -> 3171.1588 | T38: =T37*(1+2%) -> 241.26559 | V38: =Premissas!$O$9*Comprar!X38 -> 7927.897 | X38: =X37*(1+Premissas!$D$17) -> 792789.7 | Z38: =SUM(P38:W38) -> 13270.446
... A43: =INT((ROW()-3)/12) -> 3 | B43: 5 | D43: =$O$7 -> 1651.96 | F43: =J42*$O$8 -> 1081.9972 | H43: =D43-F43 -> 569.96276 | J43: =J42-H43 -> 335193.34 | M43: 30 | P43: =P42*(1+2%) -> 2131.0136 | R43: =R42*(1+Premissas!$D$17) -> 3676.2422 | T43: =T42*(1+2%) -> 266.3767 | V43: =Premissas!$O$9*Comprar!X43 -> 9190.6055 | X43: =X42*(1+Premissas!$D$17) -> 919060.55 | Z43: =SUM(P43:W43) -> 15264.238
A44: =INT((ROW()-3)/12) -> 3 | B44: 6 | D44: =$O$7 -> 1651.96 | F44: =J43*$O$8 -> 1080.1605 | H44: =D44-F44 -> 571.79946 | J44: =J43-H44 -> 334621.54 | P44: =SUM(P14:Q43) -> 48681.695 | R44: =SUM(R14:S43) -> 74217.649 | T44: =SUM(T14:U43) -> 6085.2119 | V44: =SUM(V14:W43) -> 185544.12 | X44: =SUM(X14:Y43) -> 18554412 | Z44: =SUM(P44:W44) -> 314528.68
A45: =INT((ROW()-3)/12) -> 3 | B45: 7 | D45: =$O$7 -> 1651.96 | F45: =J44*$O$8 -> 1078.3179 | H45: =D45-F45 -> 573.64209 | J45: =J44-H45 -> 334047.9
A46: =INT((ROW()-3)/12) -> 3 | B46: 8 | D46: =$O$7 -> 1651.96 | F46: =J45*$O$8 -> 1076.4694 | H46: =D46-F46 -> 575.49065 | J46: =J45-H46 -> 333472.41
A47: =INT((ROW()-3)/12) -> 3 | B47: 9 | D47: =$O$7 -> 1651.96 | F47: =J46*$O$8 -> 1074.6148 | H47: =D47-F47 -> 577.34517 | J47: =J46-H47 -> 332895.06
...

Sheet Arrendar
A1: Arrendar (Fluxo de caixa)
A4: Resultados | L4: Dados
D5: Pessimista | F5: Base | H5: Otimista | L5: Renda mensal inicial | O5: =Premissas!M13 -> 1600
A6: Valor total de renda gasto | D6: =SUM(D12:E41)*12 -> 778907.12 | F6: =SUM(F12:G41)*12 -> 842931.9 | H6: =SUM(H12:I41)*12 -> 913447.98 | L6: Taxa de crescimento | O6: =Premissas!M14 -> 0.02 | P6: =Premissas!N14 -> 0.025 | Q6: =Premissas!O14 -> 0.03
A7: Retorno em investimento | D7: =$N$41 -> 88135.55 | F7: =$R$41 -> 266073.21 | H7: =$V$41 -> 593279.68 | L7: Valor para investir | O7: =Premissas!D10-Arrendar!O5 -> 37400
A8: Final | D8: =-D6+D7 -> -690771.57 | F8: =-F6+F7 -> -576858.69 | H8: =-H6+H7 -> -320168.3 | L8: Retorno recebido | O8: =Premissas!M19 -> 0.03 | P8: =Premissas!N19 -> 0.07 | Q8: =Premissas!O19 -> 0.1
A10: Renda ao longo do tempo | K10: Retorno do investimento | N10: P | R10: B | V10: O
A11: Ano | D11: Pessimista (2%) | F11: Base (2,5%) | H11: Otimista (3%) | K11: Ano | N11: Valor investido | P11: Juros | R11: Valor investido | T11: Juros | V11: Valor investido | X11: Juros
A12: 1 | D12: =$O$5 -> 1600 | F12: =$O$5 -> 1600 | H12: =$O$5 -> 1600 | K12: 1 | N12: =$O$7 -> 37400 | P12: =N12*$O$8 -> 1122 | R12: =$O$7 -> 37400 | T12: =R12*$P$8 -> 2618 | V12: =$O$7 -> 37400 | X12: =V12*$Q$8 -> 3740
A13: 2 | D13: =D12*(1+Premissas!$M$14) -> 1632 | F13: =F12*(1+Premissas!$N$14) -> 1640 | H13: =H12*(1+Premissas!$O$14) -> 1648 | K13: 2 | N13: =N12+P12 -> 38522 | P13: =N13*$O$8 -> 1155.66 | R13: =R12+T12 -> 40018 | T13: =R13*$P$8 -> 2801.26 | V13: =V12+X12 -> 41140 | X13: =V13*$Q$8 -> 4114
A14: 3 | D14: =D13*(1+Premissas!$M$14) -> 1664.64 | F14: =F13*(1+Premissas!$N$14) -> 1681 | H14: =H13*(1+Premissas!$O$14) -> 1697.44 | K14: 3 | N14: =N13+P13 -> 39677.66 | P14: =N14*$O$8 -> 1190.3298 | R14: =R13+T13 -> 42819.26 | T14: =R14*$P$8 -> 2997.3482 | V14: =V13+X13 -> 45254 | X14: =V14*$Q$8 -> 4525.4
A15: 4 | D15: =D14*(1+Premissas!$M$14) -> 1697.9328 | F15: =F14*(1+Premissas!$N$14) -> 1723.025 | H15: =H14*(1+Premissas!$O$14) -> 1748.3632 | K15: 4 | N15: =N14+P14 -> 40867.99 | P15: =N15*$O$8 -> 1226.0397 | R15: =R14+T14 -> 45816.608 | T15: =R15*$P$8 -> 3207.1626 | V15: =V14+X14 -> 49779.4 | X15: =V15*$Q$8 -> 4977.94
A16: 5 | D16: =D15*(1+Premissas!$M$14) -> 1731.8915 | F16: =F15*(1+Premissas!$N$14) -> 1766.1006 | H16: =H15*(1+Premissas!$O$14) -> 1800.8141 | K16: 5 | N16: =N15+P15 -> 42094.029 | P16: =N16*$O$8 -> 1262.8209 | R16: =R15+T15 -> 49023.771 | T16: =R16*$P$8 -> 3431.664 | V16: =V15+X15 -> 54757.34 | X16: =V16*$Q$8 -> 5475.734
A17: 6 | D17: =D16*(1+Premissas!$M$14) -> 1766.5293 | F17: =F16*(1+Premissas!$N$14) -> 1810.2531 | H17: =H16*(1+Premissas!$O$14) -> 1854.8385 | K17: 6 | N17: =N16+P16 -> 43356.85 | P17: =N17*$O$8 -> 1300.7055 | R17: =R16+T16 -> 52455.435 | T17: =R17*$P$8 -> 3671.8804 | V17: =V16+X16 -> 60233.074 | X17: =V17*$Q$8 -> 6023.3074
A18: 7 | D18: =D17*(1+Premissas!$M$14) -> 1801.8599 | F18: =F17*(1+Premissas!$N$14) -> 1855.5095 | H18: =H17*(1+Premissas!$O$14) -> 1910.4837 | K18: 7 | N18: =N17+P17 -> 44657.556 | P18: =N18*$O$8 -> 1339.7267 | R18: =R17+T17 -> 56127.315 | T18: =R18*$P$8 -> 3928.9121 | V18: =V17+X17 -> 66256.381 | X18: =V18*$Q$8 -> 6625.6381
A19: 8 | D19: =D18*(1+Premissas!$M$14) -> 1837.8971 | F19: =F18*(1+Premissas!$N$14) -> 1901.8972 | H19: =H18*(1+Premissas!$O$14) -> 1967.7982 | K19: 8 | N19: =N18+P18 -> 45997.283 | P19: =N19*$O$8 -> 1379.9185 | R19: =R18+T18 -> 60056.227 | T19: =R19*$P$8 -> 4203.9359 | V19: =V18+X18 -> 72882.02 | X19: =V19*$Q$8 -> 7288.202
A20: 9 | D20: =D19*(1+Premissas!$M$14) -> 1874.655 | F20: =F19*(1+Premissas!$N$14) -> 1949.4446 | H20: =H19*(1+Premissas!$O$14) -> 2026.8321 | K20: 9 | N20: =N19+P19 -> 47377.201 | P20: =N20*$O$8 -> 1421.316 | R20: =R19+T19 -> 64260.163 | T20: =R20*$P$8 -> 4498.2114 | V20: =V19+X19 -> 80170.221 | X20: =V20*$Q$8 -> 8017.0221
A21: 10 | D21: =D20*(1+Premissas!$M$14) -> 1912.1481 | F21: =F20*(1+Premissas!$N$14) -> 1998.1808 | H21: =H20*(1+Premissas!$O$14) -> 2087.6371 | K21: 10 | N21: =N20+P20 -> 48798.517 | P21: =N21*$O$8 -> 1463.9555 | R21: =R20+T20 -> 68758.375 | T21: =R21*$P$8 -> 4813.0862 | V21: =V20+X20 -> 88187.244 | X21: =V21*$Q$8 -> 8818.7244
A22: 11 | D22: =D21*(1+Premissas!$M$14) -> 1950.3911 | F22: =F21*(1+Premissas!$N$14) -> 2048.1353 | H22: =H21*(1+Premissas!$O$14) -> 2150.2662 | K22: 11 | N22: =N21+P21 -> 50262.473 | P22: =N22*$O$8 -> 1507.8742 | R22: =R21+T21 -> 73571.461 | T22: =R22*$P$8 -> 5150.0023 | V22: =V21+X21 -> 97005.968 | X22: =V22*$Q$8 -> 9700.5968
A23: 12 | D23: =D22*(1+Premissas!$M$14) -> 1989.3989 | F23: =F22*(1+Premissas!$N$14) -> 2099.3387 | H23: =H22*(1+Premissas!$O$14) -> 2214.7742 | K23: 12 | N23: =N22+P22 -> 51770.347 | P23: =N23*$O$8 -> 1553.1104 | R23: =R22+T22 -> 78721.463 | T23: =R23*$P$8 -> 5510.5024 | V23: =V22+X22 -> 106706.56 | X23: =V23*$Q$8 -> 10670.656
A24: 13 | D24: =D23*(1+Premissas!$M$14) -> 2029.1869 | F24: =F23*(1+Premissas!$N$14) -> 2151.8221 | H24: =H23*(1+Premissas!$O$14) -> 2281.2174 | K24: 13 | N24: =N23+P23 -> 53323.457 | P24: =N24*$O$8 -> 1599.7037 | R24: =R23+T23 -> 84231.965 | T24: =R24*$P$8 -> 5896.2376 | V24: =V23+X23 -> 117377.22 | X24: =V24*$Q$8 -> 11737.722
... A40: 29 | D40: =D39*(1+Premissas!$M$14) -> 2785.6387 | F40: =F39*(1+Premissas!$N$14) -> 3194.392 | H40: =H39*(1+Premissas!$O$14) -> 3660.6843 | K40: 29 | N40: =N39+P39 -> 85568.495 | P40: =N40*$O$8 -> 2567.0549 | R40: =R39+T39 -> 248666.55 | T40: =R40*$P$8 -> 17406.659 | V40: =V39+X39 -> 539345.16 | X40: =V40*$Q$8 -> 53934.516
A41: 30 | D41: =D40*(1+Premissas!$M$14) -> 2841.3515 | F41: =F40*(1+Premissas!$N$14) -> 3274.2518 | H41: =H40*(1+Premissas!$O$14) -> 3770.5048 | K41: 30 | N41: =N40+P40 -> 88135.55 | R41: =R40+T40 -> 266073.21 | V41: =V40+X40 -> 593279.68

Sheet Comparação final
A1: Considerações Finais
A4: Análise Comparativa
D5: Arrendar (base) | F5: Comprar (c/ venda) | H5: Comprar (s/venda)
A6: Custos totais | D6: =Arrendar!F6 -> 842931.9 | F6: =-Comprar!D9 -> 994848.25 | H6: =-Comprar!D9 -> 994848.25
A7: Custos mensais | D7: =Arrendar!O5 -> 1600 | F7: =Comprar!D15+Comprar!O10+((Comprar!P14+Comprar!R14+Comprar!T14+Comprar!V14)/12) -> 2249.46 | H7: =F7 -> 2249.46
A8: Património líquido final | D8: =Arrendar!F8 -> -576858.69 | F8: =Comprar!D10 -> -75787.702 | H8: =Comprar!D9 -> -994848.25
A9: Diferença absoluta | D9: =F8-D8 -> 501070.98
A10: Diferença percentual | D10: =(F8-D8)/D8 -> -0.86861999
B12: Concluimos que compensa comprar a casa e vender porque conseguimos reduzir consideravelmente o prejuízo, apesar do mesmo ainda existir.

Sheet Sensibilidade
A1: Análise de sensibilidade
A3: Permite entender até que ponto é vantajoso comprar ou arrendar, conforme as alterações das taxa de juros ou valor do imóvel.
A5: Taxa de juro | C5: =Premissas!D13 -> 0.03867 | E5: Valor comparação arrendar | I5: =Arrendar!F8 -> -576858.69
A6: Valor do imóvel | C6: =Premissas!D9 -> 390000
A7: Lucro líquido | C7: =(C6*30*Premissas!$D$17)-((PMT((C5)/12,359,(C6-(C6*0.1)))*12)*30)-(Comprar!D6)-(Premissas!D20+Premissas!D21+Premissas!D22) -> 582292.95
D9: Taxa de juro
C10: =((C6*30*Premissas!$D$17)+((PMT((C5)/12,359,(C6-(C6*0.1)))*12)*30)-(Comprar!D6)-(Premissas!D20+Premissas!D21+Premissas!D22))-I5 -> -29829.479 | D10: 0.02 | E10: 0.0225 | F10: 0.025 | G10: 0.0275 | H10: 0.03 | I10: 0.0325 | J10: 0.035 | K10: 0.0375 | L10: 0.04 | M10: 0.0425 | N10: 0.045 | O10: 0.0475 | P10: 0.05 | Q10: 0.0525 | R10: 0.055 | S10: 0.0575
B11: Valor do imóvel | C11: 170000 | D11: 162660.65 | E11: 155709.1 | F11: 148621.22 | G11: 141398.45 | H11: 134042.39 | I11: 126554.77 | J11: 118937.4 | K11: 111192.23 | L11: 103321.31 | M11: 95326.76 | N11: 87210.815 | O11: 78975.777 | P11: 70624.025 | Q11: 62158.003 | R11: 53580.212 | S11: 44893.204
C12: 190000 | D12: 156660.6 | E12: 148891.23 | F12: 140969.47 | G12: 132896.96 | H12: 124675.49 | I12: 116306.97 | J12: 107793.44 | K12: 99137.077 | L12: 90340.159 | M12: 81405.076 | N12: 72334.313 | O12: 63130.448 | P12: 53796.137 | Q12: 44334.112 | R12: 34747.169 | S12: 25038.159
C13: 210000 | D13: 150660.55 | E13: 142073.35 | F13: 133317.72 | G13: 124395.48 | H13: 115308.59 | I13: 106059.17 | J13: 96649.478 | K13: 87081.918 | L13: 77359.01 | M13: 67483.391 | N13: 57457.812 | O13: 47285.118 | P13: 36968.248 | Q13: 26510.221 | R13: 15914.125 | S13: 5183.1153
C14: 230000 | D14: 144660.5 | E14: 135255.47 | F14: 125665.97 | G14: 115893.99 | H14: 105941.68 | I14: 95811.364 | J14: 85505.516 | K14: 75026.76 | L14: 64377.86 | M14: 53561.707 | N14: 42581.31 | O14: 31439.788 | P14: 20140.359 | Q14: 8686.3293 | R14: -2918.9177 | S14: -14671.929
C15: 250000 | D15: 138660.45 | E15: 128437.59 | F15: 118014.22 | G15: 107392.5 | H15: 96574.777 | I15: 85563.563 | J15: 74361.554 | K15: 62971.602 | L15: 51396.711 | M15: 39640.022 | N15: 27704.808 | O15: 15594.459 | P15: 3312.4708 | Q15: -9137.5619 | R15: -21751.961 | S15: -34526.973
C16: 270000 | D16: 132660.4 | E16: 121619.71 | F16: 110362.47 | G16: 98891.018 | H16: 87207.873 | I16: 75315.762 | J16: 63217.592 | K16: 50916.444 | L16: 38415.562 | M16: 25718.338 | N16: 12828.307 | O16: -250.87078 | P16: -13515.418 | Q16: -26961.453 | R16: -40585.004 | S16: -54382.017
C17: 290000 | D17: 126660.34 | E17: 114801.83 | F17: 102710.72 | G17: 90389.532 | H17: 77840.969 | I17: 65067.961 | J17: 52073.63 | K17: 38861.286 | L17: 25434.412 | M17: 11796.654 | N17: -2048.1948 | O17: -16096.2 | P17: -30343.306 | Q17: -44785.344 | R17: -59418.047 | S17: -74237.061
C18: 310000 | D18: 120660.29 | E18: 107983.95 | F18: 95058.976 | G18: 81888.046 | H18: 68474.065 | I18: 54820.159 | J18: 40929.668 | K18: 26806.128 | L18: 12453.263 | M18: -2125.031 | N18: -16924.696 | O18: -31941.53 | P18: -47171.195 | Q18: -62609.236 | R18: -78251.09 | S18: -94092.105
C19: 330000 | D19: 114660.24 | E19: 101166.07 | F19: 87407.228 | G19: 73386.56 | H19: 59107.161 | I19: 44572.358 | J19: 29785.706 | K19: 14750.97 | L19: -527.88659 | M19: -16046.715 | N19: -31801.198 | O19: -47786.859 | P19: -63999.084 | Q19: -80433.127 | R19: -97084.133 | S19: -113947.15
C20: 350000 | D20: 108660.19 | E20: 94348.191 | F20: 79755.479 | G20: 64885.075 | H20: 49740.257 | I20: 34324.557 | J20: 18641.744 | K20: 2695.8119 | L20: -13509.036 | M20: -29968.4 | N20: -46677.7 | O20: -63632.189 | P20: -80826.972 | Q20: -98257.018 | R20: -115917.18 | S20: -133802.19
C21: 370000 | D21: 102660.14 | E21: 87530.312 | F21: 72103.731 | G21: 56383.589 | H21: 40373.353 | I21: 24076.756 | J21: 7497.7821 | K21: -9359.3462 | L21: -26490.185 | M21: -43890.084 | N21: -61554.201 | O21: -79477.519 | P21: -97654.861 | Q21: -116080.91 | R21: -134750.22 | S21: -153657.24
C22: 390000 | D22: 96660.092 | E22: 80712.432 | F22: 64451.982 | G22: 47882.103 | H22: 31006.449 | I22: 13828.954 | J22: -3646.1798 | K22: -21414.504 | L22: -39471.335 | M22: -57811.769 | N22: -76430.703 | O22: -95322.848 | P22: -114482.75 | Q22: -133904.8 | R22: -153583.26 | S22: -173512.28
C23: 410000 | D23: 90660.041 | E23: 73894.553 | F23: 56800.234 | G23: 39380.617 | H23: 21639.544 | I23: 3581.1532 | J23: -14790.142 | K23: -33469.662 | L23: -52452.484 | M23: -71733.453 | N23: -91307.204 | O23: -111168.18 | P23: -131310.64 | Q23: -151728.69 | R23: -172416.31 | S23: -193367.33
... C27: 490000 | D27: 66659.839 | E27: 46623.036 | F27: 26193.24 | G27: 5374.673 | H27: -15828.072 | I27: -37410.052 | J27: -59365.99 | K27: -81690.295 | L27: -104377.08 | M27: -127420.19 | N27: -150813.21 | O27: -174549.5 | P27: -198622.19 | Q27: -223024.26 | R27: -247748.48 | S27: -272787.5

Sheet Anexo
A1: Anexo
A4: Quadro IMT 2026 (Continente Habitação prórpio e permanente)
A5: Valor que incide o IMT | D5: Taxa | E5: Parcela a abater (€)
B6: até | C6: 106346 | D6: 0
A7: 106346 | B7: até | C7: 145470 | D7: 0.02 | E7: 2126.92
A8: 145470 | B8: até | C8: 198347 | D8: 0.05 | E8: 6491.02
A9: 198347 | B9: até | C9: 330539 | D9: 0.07 | E9: 10457.96
A10: 330539 | B10: até | C10: 660982 | D10: 0.08 | E10: 13763.35
A11: 660982 | B11: até | C11: 1150853 | D11: 0.06
A12: 1150853 | D12: 0.075
